BEGIN:VCALENDAR
VERSION:2.0
PRODID:-//Sargent&#039;s Nursery - ECPv6.15.20//NONSGML v1.0//EN
CALSCALE:GREGORIAN
METHOD:PUBLISH
X-ORIGINAL-URL:https://sargentsnursery.com
X-WR-CALDESC:Events for Sargent&#039;s Nursery
REFRESH-INTERVAL;VALUE=DURATION:PT1H
X-Robots-Tag:noindex
X-PUBLISHED-TTL:PT1H
BEGIN:VTIMEZONE
TZID:America/Chicago
BEGIN:DAYLIGHT
TZOFFSETFROM:-0600
TZOFFSETTO:-0500
TZNAME:CDT
DTSTART:20240310T080000
END:DAYLIGHT
BEGIN:STANDARD
TZOFFSETFROM:-0500
TZOFFSETTO:-0600
TZNAME:CST
DTSTART:20241103T070000
END:STANDARD
BEGIN:DAYLIGHT
TZOFFSETFROM:-0600
TZOFFSETTO:-0500
TZNAME:CDT
DTSTART:20250309T080000
END:DAYLIGHT
BEGIN:STANDARD
TZOFFSETFROM:-0500
TZOFFSETTO:-0600
TZNAME:CST
DTSTART:20251102T070000
END:STANDARD
BEGIN:DAYLIGHT
TZOFFSETFROM:-0600
TZOFFSETTO:-0500
TZNAME:CDT
DTSTART:20260308T080000
END:DAYLIGHT
BEGIN:STANDARD
TZOFFSETFROM:-0500
TZOFFSETTO:-0600
TZNAME:CST
DTSTART:20261101T070000
END:STANDARD
END:VTIMEZONE
BEGIN:VEVENT
DTSTART;TZID=America/Chicago:20250301T110000
DTEND;TZID=America/Chicago:20250301T110000
DTSTAMP:20260425T223108
CREATED:20250217T192928Z
LAST-MODIFIED:20250217T193728Z
UID:10000049-1740826800-1740826800@sargentsnursery.com
SUMMARY:Houseplant Bingo
DESCRIPTION:Our last plant bingo filled up so fast it left us spinning—talk about a full house! We’re excited to invite you to another session with even more room to mark your spot and win big.  Join us for another day of Houseplant Bingo\, where every round is an opportunity to win amazing prizes and connect with fellow plant enthusiasts! \n\nEntry Fee: $5 (includes a $5 coupon to use at Sargent’s the day of the event!)\nGame: 10 exciting rounds of Bingo\, with prizes increasing in value as the difficulty rises. The final blackout round winner takes home a large indoor plant!\nPrizes Include: Indoor plants\, Sargent’s Nursery gift cards\, and plant accessories to enhance your collection.\n\n Refreshments will be provided to keep the fun going! \nDon’t miss this unique event where plants and games come together for a great time! Bring your friends or come solo—either way\, you’ll leave with a smile (and maybe a new plant friend!). \nSpots are limited\, so reserve your space today! Scroll down to get tickets!
URL:https://sargentsnursery.com/event/houseplant-bingo-3-1-25/
LOCATION:Sargent’s Nursery\, 3352 N. Service Dr.\, Red Wing\, MN\, 55066\, United States
ATTACH;FMTTYPE=image/png:https://sargentsnursery.com/wp-content/uploads/2025/02/Houseplant-Bingo-2-Facebook-Banner-Terrarium-Workshop.png
END:VEVENT
BEGIN:VEVENT
DTSTART;TZID=America/Chicago:20250315T100000
DTEND;TZID=America/Chicago:20250315T140000
DTSTAMP:20260425T223108
CREATED:20250221T194128Z
LAST-MODIFIED:20250221T200647Z
UID:10000050-1742032800-1742047200@sargentsnursery.com
SUMMARY:Kids Events - Shamrock & Chalk
DESCRIPTION:Join us for this Free Kids Event Shamrock & Chalk: A St. Patrick’s Day Chalk Art Party! Kids of all ages (and their parents!) are invited to celebrate the holiday with some creative\, colorful fun at Sargent’s Nursery. We’ll provide the chalk and you’ll help decorate our garden center with festive St. Patrick’s Day drawings! \nWeather permitting\, we’ll take the fun outside\, so be sure to dress accordingly. If it’s too chilly or wet\, we’ll move the creativity indoors—rain or shine\, the fun goes on! Come shake off the winter blues\, get excited for spring\, and add a little extra luck and color to the day! \nOur day of fun will be open from 10AM-2PM on March 15th. Come anytime to this FREE EVENT; no RSVP necessary!
URL:https://sargentsnursery.com/event/kids-events-shamrock-chalk/
LOCATION:Sargent’s Nursery\, 3352 N. Service Dr.\, Red Wing\, MN\, 55066\, United States
ATTACH;FMTTYPE=image/png:https://sargentsnursery.com/wp-content/uploads/2025/02/Kids-Series-St.-Patricks-Day-3-Website-Event-Block-Shamrock-Chalk-1.png
END:VEVENT
BEGIN:VEVENT
DTSTART;TZID=America/Chicago:20250329T100000
DTEND;TZID=America/Chicago:20250329T110000
DTSTAMP:20260425T223108
CREATED:20250211T191632Z
LAST-MODIFIED:20250220T172159Z
UID:10000042-1743242400-1743246000@sargentsnursery.com
SUMMARY:Moss Basket Workshops
DESCRIPTION:The Red Wing Moss Basket tradition began in 1989 and has since blossomed into a beloved symbol of our beautiful city. Now\, it’s your turn to be part of the legacy! \nJoin us for this hands-on workshop and create a stunning\, living masterpiece that showcases the beauty of Red Wing right in your own backyard.\nWe’ll provide everything you need—expert guidance\, a thoughtfully selected mix of plants\, and the perfect container to craft your own signature Moss Basket. \nAfter you bring your creation to life\, we’ll give it a strong start in our greenhouse\, nurturing it until it’s ready for pickup on May 10th. \nReserve your spot today with a ticket below! Order one ticket per basket you’d like to make\, please!
URL:https://sargentsnursery.com/event/moss-basket-workshop-3-29-10am/
LOCATION:Sargent’s Nursery\, 3352 N. Service Dr.\, Red Wing\, MN\, 55066\, United States
ATTACH;FMTTYPE=image/png:https://sargentsnursery.com/wp-content/uploads/2025/02/Moss-Basket-Workshop-4-Social-Media-Post-1-Moss-Baskets.png
END:VEVENT
BEGIN:VEVENT
DTSTART;TZID=America/Chicago:20250329T130000
DTEND;TZID=America/Chicago:20250329T140000
DTSTAMP:20260425T223108
CREATED:20250211T193308Z
LAST-MODIFIED:20250220T165845Z
UID:10000043-1743253200-1743256800@sargentsnursery.com
SUMMARY:Moss Basket Workshops
DESCRIPTION:The Red Wing Moss Basket tradition began in 1989 and has since blossomed into a beloved symbol of our beautiful city. Now\, it’s your turn to be part of the legacy! \nJoin us for this hands-on workshop and create a stunning\, living masterpiece that showcases the beauty of Red Wing right in your own backyard.\nWe’ll provide everything you need—expert guidance\, a thoughtfully selected mix of plants\, and the perfect container to craft your own signature Moss Basket. \nAfter you bring your creation to life\, we’ll give it a strong start in our greenhouse\, nurturing it until it’s ready for pickup on May 10th. \nReserve your spot today with a ticket below! Order one ticket per basket you’d like to make\, please!
URL:https://sargentsnursery.com/event/moss-basket-workshops-3-29-1pm/
LOCATION:Sargent’s Nursery\, 3352 N. Service Dr.\, Red Wing\, MN\, 55066\, United States
ATTACH;FMTTYPE=image/png:https://sargentsnursery.com/wp-content/uploads/2025/02/Moss-Basket-Workshop-4-Social-Media-Post-1-Moss-Baskets.png
END:VEVENT
END:VCALENDAR