BEGIN:VCALENDAR
VERSION:2.0
PRODID:-//Sargent&#039;s Nursery - ECPv6.15.20//NONSGML v1.0//EN
CALSCALE:GREGORIAN
METHOD:PUBLISH
X-WR-CALNAME:Sargent&#039;s Nursery
X-ORIGINAL-URL:https://sargentsnursery.com
X-WR-CALDESC:Events for Sargent&#039;s Nursery
REFRESH-INTERVAL;VALUE=DURATION:PT1H
X-Robots-Tag:noindex
X-PUBLISHED-TTL:PT1H
BEGIN:VTIMEZONE
TZID:America/Chicago
BEGIN:DAYLIGHT
TZOFFSETFROM:-0600
TZOFFSETTO:-0500
TZNAME:CDT
DTSTART:20240310T080000
END:DAYLIGHT
BEGIN:STANDARD
TZOFFSETFROM:-0500
TZOFFSETTO:-0600
TZNAME:CST
DTSTART:20241103T070000
END:STANDARD
BEGIN:DAYLIGHT
TZOFFSETFROM:-0600
TZOFFSETTO:-0500
TZNAME:CDT
DTSTART:20250309T080000
END:DAYLIGHT
BEGIN:STANDARD
TZOFFSETFROM:-0500
TZOFFSETTO:-0600
TZNAME:CST
DTSTART:20251102T070000
END:STANDARD
BEGIN:DAYLIGHT
TZOFFSETFROM:-0600
TZOFFSETTO:-0500
TZNAME:CDT
DTSTART:20260308T080000
END:DAYLIGHT
BEGIN:STANDARD
TZOFFSETFROM:-0500
TZOFFSETTO:-0600
TZNAME:CST
DTSTART:20261101T070000
END:STANDARD
END:VTIMEZONE
BEGIN:VEVENT
DTSTART;TZID=America/Chicago:20250405T100000
DTEND;TZID=America/Chicago:20250405T110000
DTSTAMP:20260425T203644
CREATED:20250211T195324Z
LAST-MODIFIED:20250220T170029Z
UID:10000044-1743847200-1743850800@sargentsnursery.com
SUMMARY:Moss Basket Workshops
DESCRIPTION:The Red Wing Moss Basket tradition began in 1989 and has since blossomed into a beloved symbol of our beautiful city. Now\, it’s your turn to be part of the legacy! \nJoin us for this hands-on workshop and create a stunning\, living masterpiece that showcases the beauty of Red Wing right in your own backyard.\nWe’ll provide everything you need—expert guidance\, a thoughtfully selected mix of plants\, and the perfect container to craft your own signature Moss Basket. \nAfter you bring your creation to life\, we’ll give it a strong start in our greenhouse\, nurturing it until it’s ready for pickup on May 10th. \nReserve your spot today with a ticket below! Order one ticket per basket you’d like to make\, please!
URL:https://sargentsnursery.com/event/moss-basket-workshops-4-5-10am/
LOCATION:Sargent’s Nursery\, 3352 N. Service Dr.\, Red Wing\, MN\, 55066\, United States
ATTACH;FMTTYPE=image/png:https://sargentsnursery.com/wp-content/uploads/2025/02/Moss-Basket-Workshop-4-Social-Media-Post-1-Moss-Baskets.png
END:VEVENT
BEGIN:VEVENT
DTSTART;TZID=America/Chicago:20250405T130000
DTEND;TZID=America/Chicago:20250405T140000
DTSTAMP:20260425T203644
CREATED:20250211T195953Z
LAST-MODIFIED:20250220T150313Z
UID:10000045-1743858000-1743861600@sargentsnursery.com
SUMMARY:Moss Basket Workshops
DESCRIPTION:The Red Wing Moss Basket tradition began in 1989 and has since blossomed into a beloved symbol of our beautiful city. Now\, it’s your turn to be part of the legacy! \nJoin us for this hands-on workshop and create a stunning\, living masterpiece that showcases the beauty of Red Wing right in your own backyard.\nWe’ll provide everything you need—expert guidance\, a thoughtfully selected mix of plants\, and the perfect container to craft your own signature Moss Basket. \nAfter you bring your creation to life\, we’ll give it a strong start in our greenhouse\, nurturing it until it’s ready for pickup on May 10th. \nReserve your spot today with a ticket below! Order one ticket per basket you’d like to make\, please!
URL:https://sargentsnursery.com/event/moss-basket-workshops-4-5-1pm/
LOCATION:Sargent’s Nursery\, 3352 N. Service Dr.\, Red Wing\, MN\, 55066\, United States
ATTACH;FMTTYPE=image/png:https://sargentsnursery.com/wp-content/uploads/2025/02/Moss-Basket-Workshop-4-Social-Media-Post-1-Moss-Baskets.png
END:VEVENT
BEGIN:VEVENT
DTSTART;TZID=America/Chicago:20250412T100000
DTEND;TZID=America/Chicago:20250412T110000
DTSTAMP:20260425T203644
CREATED:20250211T221002Z
LAST-MODIFIED:20250211T225123Z
UID:10000046-1744452000-1744455600@sargentsnursery.com
SUMMARY:Early Spring Planter Workshop
DESCRIPTION:Welcome spring with a gorgeous\, Early spring planter!  Brighten up your patios with vibrant\, cold-tolerant Pansies\, Nemesia\, Ranunculus\, and more with a handcrafted planter you create! Our expert team will help you design the perfect arrangement\, choose stunning color combinations\, and share plant care tips to keep your creation thriving. \nGrab your friends\, dig in\, and enjoy a fun\, hands-on planting experience—because nothing says spring like getting your hands in the soil!
URL:https://sargentsnursery.com/event/early-spring-planter-workshop-4-12-10am/
LOCATION:Sargent’s Nursery\, 3352 N. Service Dr.\, Red Wing\, MN\, 55066\, United States
ATTACH;FMTTYPE=image/png:https://sargentsnursery.com/wp-content/uploads/2025/02/Early-Spring-Container-Workshop-3-Website-Event-Early-Spring-Container.png
END:VEVENT
BEGIN:VEVENT
DTSTART;TZID=America/Chicago:20250412T130000
DTEND;TZID=America/Chicago:20250412T140000
DTSTAMP:20260425T203644
CREATED:20250211T222407Z
LAST-MODIFIED:20250211T225003Z
UID:10000047-1744462800-1744466400@sargentsnursery.com
SUMMARY:Early Spring Planter Workshop
DESCRIPTION:Welcome spring with a gorgeous\, Early spring planter!  Brighten up your patios with vibrant\, cold-tolerant Pansies\, Nemesia\, Ranunculus\, and more with a handcrafted planter you create! Our expert team will help you design the perfect arrangement\, choose stunning color combinations\, and share plant care tips to keep your creation thriving. \nGrab your friends\, dig in\, and enjoy a fun\, hands-on planting experience—because nothing says spring like getting your hands in the soil!
URL:https://sargentsnursery.com/event/early-spring-planter-workshop-4-12-1pm/
LOCATION:Sargent’s Nursery\, 3352 N. Service Dr.\, Red Wing\, MN\, 55066\, United States
ATTACH;FMTTYPE=image/png:https://sargentsnursery.com/wp-content/uploads/2025/02/Early-Spring-Container-Workshop-3-Website-Event-Early-Spring-Container.png
END:VEVENT
BEGIN:VEVENT
DTSTART;TZID=America/Chicago:20250419T110000
DTEND;TZID=America/Chicago:20250419T120000
DTSTAMP:20260425T203644
CREATED:20250211T224247Z
LAST-MODIFIED:20250211T224534Z
UID:10000048-1745060400-1745064000@sargentsnursery.com
SUMMARY:Spring Centerpiece Workshop
DESCRIPTION:Create a fresh\, festive spring centerpiece for your Easter celebrations! Design a beautiful centerpiece filled with vibrant spring blooms—a thoughtful gift for your Easter host\, or the perfect way to liven up your tablescape for holiday brunches and dinners!  Let’s craft some joy together!
URL:https://sargentsnursery.com/event/spring-centerpiece-workshop/
LOCATION:Sargent’s Nursery\, 3352 N. Service Dr.\, Red Wing\, MN\, 55066\, United States
ATTACH;FMTTYPE=image/png:https://sargentsnursery.com/wp-content/uploads/2025/02/Spring-Centerpiece-Workshop-3-Website-Event-Early-Spring-Centerpiece.png
END:VEVENT
END:VCALENDAR