BEGIN:VCALENDAR
VERSION:2.0
PRODID:-//Sargent&#039;s Nursery - ECPv6.15.20//NONSGML v1.0//EN
CALSCALE:GREGORIAN
METHOD:PUBLISH
X-WR-CALNAME:Sargent&#039;s Nursery
X-ORIGINAL-URL:https://sargentsnursery.com
X-WR-CALDESC:Events for Sargent&#039;s Nursery
REFRESH-INTERVAL;VALUE=DURATION:PT1H
X-Robots-Tag:noindex
X-PUBLISHED-TTL:PT1H
BEGIN:VTIMEZONE
TZID:America/Chicago
BEGIN:DAYLIGHT
TZOFFSETFROM:-0600
TZOFFSETTO:-0500
TZNAME:CDT
DTSTART:20240310T080000
END:DAYLIGHT
BEGIN:STANDARD
TZOFFSETFROM:-0500
TZOFFSETTO:-0600
TZNAME:CST
DTSTART:20241103T070000
END:STANDARD
BEGIN:DAYLIGHT
TZOFFSETFROM:-0600
TZOFFSETTO:-0500
TZNAME:CDT
DTSTART:20250309T080000
END:DAYLIGHT
BEGIN:STANDARD
TZOFFSETFROM:-0500
TZOFFSETTO:-0600
TZNAME:CST
DTSTART:20251102T070000
END:STANDARD
BEGIN:DAYLIGHT
TZOFFSETFROM:-0600
TZOFFSETTO:-0500
TZNAME:CDT
DTSTART:20260308T080000
END:DAYLIGHT
BEGIN:STANDARD
TZOFFSETFROM:-0500
TZOFFSETTO:-0600
TZNAME:CST
DTSTART:20261101T070000
END:STANDARD
END:VTIMEZONE
BEGIN:VEVENT
DTSTART;TZID=America/Chicago:20250913T090000
DTEND;TZID=America/Chicago:20250913T100000
DTSTAMP:20260425T113615
CREATED:20250801T103041Z
LAST-MODIFIED:20250722T211317Z
UID:10000051-1757754000-1757757600@sargentsnursery.com
SUMMARY:Fall Planter Workshop
DESCRIPTION:Design a container that captures the spirit of the season. \nCool mornings\, rustling leaves\, and the rich colors of fall—it’s the perfect time to gather in the greenhouse and create something beautiful. In this hands-on Fall planter workshop\, you’ll design your own autumn container bursting with seasonal texture and vibrant blooms. \nWe’ll provide everything you need to create something beautiful—soil\, inspiration\, expert guidance\, and a wide selection of plants to choose from. You’ll leave with a finished fall planter ready to brighten your porch or patio and celebrate the season in style. \nSpots fill quickly\, so grab yours and let’s dig into fall together. \nWorkshop Ticket: $20Includes instruction\, tools\, and soil for one container (up to 20″). The cost of plants\, picks\, and pots will be determined after the class. \nOnly one ticket is needed per container\, regardless of how many people help plant it—whether it’s one person\, a couple\, or a family. \nWant to plant more than one? No extra ticket needed—just pay for additional plants and materials after class.
URL:https://sargentsnursery.com/event/fall-planter-workshop-9-13-9am/
LOCATION:MN
CATEGORIES:Autumn Workshops
ATTACH;FMTTYPE=image/jpeg:https://sargentsnursery.com/wp-content/uploads/2025/07/IMG_4267.jpg
END:VEVENT
BEGIN:VEVENT
DTSTART;TZID=America/Chicago:20250913T110000
DTEND;TZID=America/Chicago:20250913T120000
DTSTAMP:20260425T113615
CREATED:20250801T103046Z
LAST-MODIFIED:20250722T210958Z
UID:10000052-1757761200-1757764800@sargentsnursery.com
SUMMARY:Fall Planter Workshop
DESCRIPTION:Design a container that captures the spirit of the season. \nCool mornings\, rustling leaves\, and the rich colors of fall—it’s the perfect time to gather in the greenhouse and create something beautiful. In this hands-on Fall planter workshop\, you’ll design your own autumn container bursting with seasonal texture and vibrant blooms. \nWe’ll provide everything you need to create something beautiful—soil\, inspiration\, expert guidance\, and a wide selection of plants to choose from. You’ll leave with a finished fall planter ready to brighten your porch or patio and celebrate the season in style. \nSpots fill quickly\, so grab yours and let’s dig into fall together. \nWorkshop Ticket: $20Includes instruction\, tools\, and soil for one container (up to 20″). The cost of plants\, picks\, and pots will be determined after the class. \nOnly one ticket is needed per container\, regardless of how many people help plant it—whether it’s one person\, a couple\, or a family. \nWant to plant more than one? No extra ticket needed—just pay for additional plants and materials after class.
URL:https://sargentsnursery.com/event/fall-planter-workshop-9-13-11am/
LOCATION:Sargent’s Nursery\, 3352 N. Service Dr.\, Red Wing\, MN\, 55066\, United States
CATEGORIES:Autumn Workshops
ATTACH;FMTTYPE=image/jpeg:https://sargentsnursery.com/wp-content/uploads/2025/07/IMG_4267.jpg
END:VEVENT
BEGIN:VEVENT
DTSTART;TZID=America/Chicago:20250920T090000
DTEND;TZID=America/Chicago:20250920T100000
DTSTAMP:20260425T113615
CREATED:20250801T103050Z
LAST-MODIFIED:20250722T203347Z
UID:10000053-1758358800-1758362400@sargentsnursery.com
SUMMARY:Fall Planter Workshop
DESCRIPTION:Design a container that captures the spirit of the season. \nCool mornings\, rustling leaves\, and the rich colors of fall—it’s the perfect time to gather in the greenhouse and create something beautiful. In this hands-on Fall planter workshop\, you’ll design your own autumn container bursting with seasonal texture and vibrant blooms. \nWe’ll provide everything you need to create something beautiful—soil\, inspiration\, expert guidance\, and a wide selection of plants to choose from. You’ll leave with a finished fall planter ready to brighten your porch or patio and celebrate the season in style. \nSpots fill quickly\, so grab yours and let’s dig into fall together. \nWorkshop Ticket: $20Includes instruction\, tools\, and soil for one container (up to 20″). The cost of plants\, picks\, and pots will be determined after the class. \nOnly one ticket is needed per container\, regardless of how many people help plant it—whether it’s one person\, a couple\, or a family. \nWant to plant more than one? No extra ticket needed—just pay for additional plants and materials after class.
URL:https://sargentsnursery.com/event/fall-planter-workshop-9-20-9am/
LOCATION:Sargent’s Nursery\, 3352 N. Service Dr.\, Red Wing\, MN\, 55066\, United States
CATEGORIES:Autumn Workshops
ATTACH;FMTTYPE=image/jpeg:https://sargentsnursery.com/wp-content/uploads/2025/07/IMG_4267.jpg
END:VEVENT
BEGIN:VEVENT
DTSTART;TZID=America/Chicago:20250920T110000
DTEND;TZID=America/Chicago:20250920T120000
DTSTAMP:20260425T113615
CREATED:20250801T103026Z
LAST-MODIFIED:20250801T150358Z
UID:10000054-1758366000-1758369600@sargentsnursery.com
SUMMARY:Fall Planter Workshop
DESCRIPTION:Design a container that captures the spirit of the season. \nCool mornings\, rustling leaves\, and the rich colors of fall—it’s the perfect time to gather in the greenhouse and create something beautiful. In this hands-on Fall planter workshop\, you’ll design your own autumn container bursting with seasonal texture and vibrant blooms. \nWe’ll provide everything you need to create something beautiful—soil\, inspiration\, expert guidance\, and a wide selection of plants to choose from. You’ll leave with a finished fall planter ready to brighten your porch or patio and celebrate the season in style. \nSpots fill quickly\, so grab yours and let’s dig into fall together. \nWorkshop Ticket: $20Includes instruction\, tools\, and soil for one container (up to 20″). The cost of plants\, picks\, and pots will be determined after the class. \nOnly one ticket is needed per container\, regardless of how many people help plant it—whether it’s one person\, a couple\, or a family. \nWant to plant more than one? No extra ticket needed—just pay for additional plants and materials after class.
URL:https://sargentsnursery.com/event/fall-planter-workshop-9-20-11am/
LOCATION:Sargent’s Nursery\, 3352 N. Service Dr.\, Red Wing\, MN\, 55066\, United States
CATEGORIES:Autumn Workshops
ATTACH;FMTTYPE=image/jpeg:https://sargentsnursery.com/wp-content/uploads/2025/07/IMG_4267.jpg
END:VEVENT
END:VCALENDAR