BEGIN:VCALENDAR
VERSION:2.0
PRODID:-//Sargent&#039;s Nursery - ECPv6.15.20//NONSGML v1.0//EN
CALSCALE:GREGORIAN
METHOD:PUBLISH
X-WR-CALNAME:Sargent&#039;s Nursery
X-ORIGINAL-URL:https://sargentsnursery.com
X-WR-CALDESC:Events for Sargent&#039;s Nursery
REFRESH-INTERVAL;VALUE=DURATION:PT1H
X-Robots-Tag:noindex
X-PUBLISHED-TTL:PT1H
BEGIN:VTIMEZONE
TZID:America/Chicago
BEGIN:DAYLIGHT
TZOFFSETFROM:-0600
TZOFFSETTO:-0500
TZNAME:CDT
DTSTART:20240310T080000
END:DAYLIGHT
BEGIN:STANDARD
TZOFFSETFROM:-0500
TZOFFSETTO:-0600
TZNAME:CST
DTSTART:20241103T070000
END:STANDARD
BEGIN:DAYLIGHT
TZOFFSETFROM:-0600
TZOFFSETTO:-0500
TZNAME:CDT
DTSTART:20250309T080000
END:DAYLIGHT
BEGIN:STANDARD
TZOFFSETFROM:-0500
TZOFFSETTO:-0600
TZNAME:CST
DTSTART:20251102T070000
END:STANDARD
BEGIN:DAYLIGHT
TZOFFSETFROM:-0600
TZOFFSETTO:-0500
TZNAME:CDT
DTSTART:20260308T080000
END:DAYLIGHT
BEGIN:STANDARD
TZOFFSETFROM:-0500
TZOFFSETTO:-0600
TZNAME:CST
DTSTART:20261101T070000
END:STANDARD
END:VTIMEZONE
BEGIN:VEVENT
DTSTART;TZID=America/Chicago:20251108T090000
DTEND;TZID=America/Chicago:20251108T100000
DTSTAMP:20260425T080230
CREATED:20250926T161842Z
LAST-MODIFIED:20251110T185840Z
UID:10000059-1762592400-1762596000@sargentsnursery.com
SUMMARY:Holiday Evergreen Planter Workshop
DESCRIPTION:Our Holiday Evergreen Planter workshop allows you to create a beautiful container for your home filled with fresh evergreen tree-tops\, pine boughs\, and red-twig dogwood. Satisfy your personal style with Magnolia Leaves\, colored or natural eucalyptus\, birch branches\, and other natural elements\, as well as lots of sparkly bits\, baubles\, and bows that will be available for sale as well! A 12″ container will be provided and upgrade pricing is available during class for larger containers. You may bring your own pot or insert\, but no discounts will be offered. \nMax: 12 projects/class\nPlease purchase tickets based on number of projects you intend to complete. i.e. If you and your daughter want to come and plant THREE planters\, you’d buy THREE tickets. Couples and families may share a ticket if completing a single project!
URL:https://sargentsnursery.com/event/holiday-evergreen-planter-workshop-11-8-9am/
LOCATION:Sargent’s Nursery\, 3352 N. Service Dr.\, Red Wing\, MN\, 55066\, United States
CATEGORIES:Holiday Evergreen Planter Workshop
ATTACH;FMTTYPE=image/png:https://sargentsnursery.com/wp-content/uploads/2025/09/Holiday-Evergreen-Planter-Workshops-2026-7-1.png
END:VEVENT
BEGIN:VEVENT
DTSTART;TZID=America/Chicago:20251108T110000
DTEND;TZID=America/Chicago:20251108T120000
DTSTAMP:20260425T080230
CREATED:20250926T161842Z
LAST-MODIFIED:20251110T185839Z
UID:10000060-1762599600-1762603200@sargentsnursery.com
SUMMARY:Holiday Evergreen Planter Workshop
DESCRIPTION:Our Holiday Evergreen Planter workshop allows you to create a beautiful container for your home filled with fresh evergreen tree-tops\, pine boughs\, and red-twig dogwood. Satisfy your personal style with Magnolia Leaves\, colored or natural eucalyptus\, birch branches\, and other natural elements\, as well as lots of sparkly bits\, baubles\, and bows that will be available for sale as well! A 12″ container will be provided and upgrade pricing is available during class for larger containers. You may bring your own pot or insert\, but no discounts will be offered. \nMax: 12 projects/class\nPlease purchase tickets based on number of projects you intend to complete. i.e. If you and your daughter want to come and plant THREE planters\, you’d buy THREE tickets. Couples and families may share a ticket if completing a single project!
URL:https://sargentsnursery.com/event/holiday-evergreen-planter-workshop-11-8-11am/
LOCATION:Sargent’s Nursery\, 3352 N. Service Dr.\, Red Wing\, MN\, 55066\, United States
CATEGORIES:Holiday Evergreen Planter Workshop
ATTACH;FMTTYPE=image/png:https://sargentsnursery.com/wp-content/uploads/2025/09/Holiday-Evergreen-Planter-Workshops-2026-7.png
END:VEVENT
BEGIN:VEVENT
DTSTART;TZID=America/Chicago:20251108T130000
DTEND;TZID=America/Chicago:20251108T140000
DTSTAMP:20260425T080230
CREATED:20250926T161841Z
LAST-MODIFIED:20251110T185839Z
UID:10000061-1762606800-1762610400@sargentsnursery.com
SUMMARY:Holiday Evergreen Planter Workshop
DESCRIPTION:Our Holiday Evergreen Planter workshop allows you to create a beautiful container for your home filled with fresh evergreen tree-tops\, pine boughs\, and red-twig dogwood. Satisfy your personal style with Magnolia Leaves\, colored or natural eucalyptus\, birch branches\, and other natural elements\, as well as lots of sparkly bits\, baubles\, and bows that will be available for sale as well! A 12″ container will be provided and upgrade pricing is available during class for larger containers. You may bring your own pot or insert\, but no discounts will be offered. \nMax: 12 projects/class\nPlease purchase tickets based on number of projects you intend to complete. i.e. If you and your daughter want to come and plant THREE planters\, you’d buy THREE tickets. Couples and families may share a ticket if completing a single project!
URL:https://sargentsnursery.com/event/holiday-evergreen-planter-workshop-11-8-1pm/
LOCATION:Sargent’s Nursery\, 3352 N. Service Dr.\, Red Wing\, MN\, 55066\, United States
CATEGORIES:Holiday Evergreen Planter Workshop
ATTACH;FMTTYPE=image/png:https://sargentsnursery.com/wp-content/uploads/2025/09/Holiday-Evergreen-Planter-Workshops-2026-7.png
END:VEVENT
BEGIN:VEVENT
DTSTART;TZID=America/Chicago:20251108T150000
DTEND;TZID=America/Chicago:20251108T160000
DTSTAMP:20260425T080230
CREATED:20250926T161841Z
LAST-MODIFIED:20251110T185838Z
UID:10000062-1762614000-1762617600@sargentsnursery.com
SUMMARY:Holiday Evergreen Planter Workshop
DESCRIPTION:Our Holiday Evergreen Planter workshop allows you to create a beautiful container for your home filled with fresh evergreen tree-tops\, pine boughs\, and red-twig dogwood. Satisfy your personal style with Magnolia Leaves\, colored or natural eucalyptus\, birch branches\, and other natural elements\, as well as lots of sparkly bits\, baubles\, and bows that will be available for sale as well! A 12″ container will be provided and upgrade pricing is available during class for larger containers. You may bring your own pot or insert\, but no discounts will be offered. \nMax: 12 projects/class\nPlease purchase tickets based on number of projects you intend to complete. i.e. If you and your daughter want to come and plant THREE planters\, you’d buy THREE tickets. Couples and families may share a ticket if completing a single project!
URL:https://sargentsnursery.com/event/holiday-evergreen-planter-workshop-11-8-3pm/
LOCATION:Sargent’s Nursery\, 3352 N. Service Dr.\, Red Wing\, MN\, 55066\, United States
CATEGORIES:Holiday Evergreen Planter Workshop
ATTACH;FMTTYPE=image/png:https://sargentsnursery.com/wp-content/uploads/2025/09/Holiday-Evergreen-Planter-Workshops-2026-7.png
END:VEVENT
BEGIN:VEVENT
DTSTART;TZID=America/Chicago:20251115T090000
DTEND;TZID=America/Chicago:20251115T100000
DTSTAMP:20260425T080230
CREATED:20250926T161841Z
LAST-MODIFIED:20250929T161543Z
UID:10000063-1763197200-1763200800@sargentsnursery.com
SUMMARY:Holiday Evergreen Planter Workshop
DESCRIPTION:Our Holiday Evergreen Planter workshop allows you to create a beautiful container for your home filled with fresh evergreen tree-tops\, pine boughs\, and red-twig dogwood. Satisfy your personal style with Magnolia Leaves\, colored or natural eucalyptus\, birch branches\, and other natural elements\, as well as lots of sparkly bits\, baubles\, and bows that will be available for sale as well! A 12″ container will be provided and upgrade pricing is available during class for larger containers. You may bring your own pot or insert\, but no discounts will be offered. \nMax: 12 projects/class\nPlease purchase tickets based on number of projects you intend to complete. i.e. If you and your daughter want to come and plant THREE planters\, you’d buy THREE tickets. Couples and families may share a ticket if completing a single project!
URL:https://sargentsnursery.com/event/holiday-evergreen-planter-workshop-11-15-9am/
LOCATION:Sargent’s Nursery\, 3352 N. Service Dr.\, Red Wing\, MN\, 55066\, United States
CATEGORIES:Holiday Evergreen Planter Workshop
ATTACH;FMTTYPE=image/png:https://sargentsnursery.com/wp-content/uploads/2025/09/Holiday-Evergreen-Planter-Workshops-2026-7.png
END:VEVENT
BEGIN:VEVENT
DTSTART;TZID=America/Chicago:20251115T110000
DTEND;TZID=America/Chicago:20251115T120000
DTSTAMP:20260425T080230
CREATED:20250926T161841Z
LAST-MODIFIED:20250926T161841Z
UID:10000064-1763204400-1763208000@sargentsnursery.com
SUMMARY:Holiday Evergreen Planter Workshop
DESCRIPTION:Our Holiday Evergreen Planter workshop allows you to create a beautiful container for your home filled with fresh evergreen tree-tops\, pine boughs\, and red-twig dogwood. Satisfy your personal style with Magnolia Leaves\, colored or natural eucalyptus\, birch branches\, and other natural elements\, as well as lots of sparkly bits\, baubles\, and bows that will be available for sale as well! A 12″ container will be provided and upgrade pricing is available during class for larger containers. You may bring your own pot or insert\, but no discounts will be offered. \nMax: 12 projects/class\nPlease purchase tickets based on number of projects you intend to complete. i.e. If you and your daughter want to come and plant THREE planters\, you’d buy THREE tickets. Couples and families may share a ticket if completing a single project!
URL:https://sargentsnursery.com/event/holiday-evergreen-planter-workshop-11-15-11am/
LOCATION:Sargent’s Nursery\, 3352 N. Service Dr.\, Red Wing\, MN\, 55066\, United States
CATEGORIES:Holiday Evergreen Planter Workshop
ATTACH;FMTTYPE=image/png:https://sargentsnursery.com/wp-content/uploads/2025/09/Holiday-Evergreen-Planter-Workshops-2026-7.png
END:VEVENT
BEGIN:VEVENT
DTSTART;TZID=America/Chicago:20251115T130000
DTEND;TZID=America/Chicago:20251115T140000
DTSTAMP:20260425T080230
CREATED:20250926T161840Z
LAST-MODIFIED:20250926T161840Z
UID:10000065-1763211600-1763215200@sargentsnursery.com
SUMMARY:Holiday Evergreen Planter Workshop
DESCRIPTION:Our Holiday Evergreen Planter workshop allows you to create a beautiful container for your home filled with fresh evergreen tree-tops\, pine boughs\, and red-twig dogwood. Satisfy your personal style with Magnolia Leaves\, colored or natural eucalyptus\, birch branches\, and other natural elements\, as well as lots of sparkly bits\, baubles\, and bows that will be available for sale as well! A 12″ container will be provided and upgrade pricing is available during class for larger containers. You may bring your own pot or insert\, but no discounts will be offered. \nMax: 12 projects/class\nPlease purchase tickets based on number of projects you intend to complete. i.e. If you and your daughter want to come and plant THREE planters\, you’d buy THREE tickets. Couples and families may share a ticket if completing a single project!
URL:https://sargentsnursery.com/event/holiday-evergreen-planter-workshop-11-15-1pm/
LOCATION:Sargent’s Nursery\, 3352 N. Service Dr.\, Red Wing\, MN\, 55066\, United States
CATEGORIES:Holiday Evergreen Planter Workshop
ATTACH;FMTTYPE=image/png:https://sargentsnursery.com/wp-content/uploads/2025/09/Holiday-Evergreen-Planter-Workshops-2026-7.png
END:VEVENT
BEGIN:VEVENT
DTSTART;TZID=America/Chicago:20251115T150000
DTEND;TZID=America/Chicago:20251115T160000
DTSTAMP:20260425T080230
CREATED:20250926T161840Z
LAST-MODIFIED:20250926T161840Z
UID:10000066-1763218800-1763222400@sargentsnursery.com
SUMMARY:Holiday Evergreen Planter Workshop
DESCRIPTION:Our Holiday Evergreen Planter workshop allows you to create a beautiful container for your home filled with fresh evergreen tree-tops\, pine boughs\, and red-twig dogwood. Satisfy your personal style with Magnolia Leaves\, colored or natural eucalyptus\, birch branches\, and other natural elements\, as well as lots of sparkly bits\, baubles\, and bows that will be available for sale as well! A 12″ container will be provided and upgrade pricing is available during class for larger containers. You may bring your own pot or insert\, but no discounts will be offered. \nMax: 12 projects/class\nPlease purchase tickets based on number of projects you intend to complete. i.e. If you and your daughter want to come and plant THREE planters\, you’d buy THREE tickets. Couples and families may share a ticket if completing a single project!
URL:https://sargentsnursery.com/event/holiday-evergreen-planter-workshop-11-15-3pm/
LOCATION:Sargent’s Nursery\, 3352 N. Service Dr.\, Red Wing\, MN\, 55066\, United States
CATEGORIES:Holiday Evergreen Planter Workshop
ATTACH;FMTTYPE=image/png:https://sargentsnursery.com/wp-content/uploads/2025/09/Holiday-Evergreen-Planter-Workshops-2026-7.png
END:VEVENT
BEGIN:VEVENT
DTSTART;TZID=America/Chicago:20251122T090000
DTEND;TZID=America/Chicago:20251122T100000
DTSTAMP:20260425T080230
CREATED:20250926T161840Z
LAST-MODIFIED:20250926T161840Z
UID:10000067-1763802000-1763805600@sargentsnursery.com
SUMMARY:Holiday Evergreen Planter Workshop
DESCRIPTION:Our Holiday Evergreen Planter workshop allows you to create a beautiful container for your home filled with fresh evergreen tree-tops\, pine boughs\, and red-twig dogwood. Satisfy your personal style with Magnolia Leaves\, colored or natural eucalyptus\, birch branches\, and other natural elements\, as well as lots of sparkly bits\, baubles\, and bows that will be available for sale as well! A 12″ container will be provided and upgrade pricing is available during class for larger containers. You may bring your own pot or insert\, but no discounts will be offered. \nMax: 12 projects/class\nPlease purchase tickets based on number of projects you intend to complete. i.e. If you and your daughter want to come and plant THREE planters\, you’d buy THREE tickets. Couples and families may share a ticket if completing a single project!
URL:https://sargentsnursery.com/event/holiday-evergreen-planter-workshop-11-22-9am/
LOCATION:Sargent’s Nursery\, 3352 N. Service Dr.\, Red Wing\, MN\, 55066\, United States
CATEGORIES:Holiday Evergreen Planter Workshop
ATTACH;FMTTYPE=image/png:https://sargentsnursery.com/wp-content/uploads/2025/09/Holiday-Evergreen-Planter-Workshops-2026-7.png
END:VEVENT
BEGIN:VEVENT
DTSTART;TZID=America/Chicago:20251122T110000
DTEND;TZID=America/Chicago:20251122T120000
DTSTAMP:20260425T080230
CREATED:20250926T161840Z
LAST-MODIFIED:20250926T161840Z
UID:10000068-1763809200-1763812800@sargentsnursery.com
SUMMARY:Holiday Evergreen Planter Workshop
DESCRIPTION:Our Holiday Evergreen Planter workshop allows you to create a beautiful container for your home filled with fresh evergreen tree-tops\, pine boughs\, and red-twig dogwood. Satisfy your personal style with Magnolia Leaves\, colored or natural eucalyptus\, birch branches\, and other natural elements\, as well as lots of sparkly bits\, baubles\, and bows that will be available for sale as well! A 12″ container will be provided and upgrade pricing is available during class for larger containers. You may bring your own pot or insert\, but no discounts will be offered. \nMax: 12 projects/class\nPlease purchase tickets based on number of projects you intend to complete. i.e. If you and your daughter want to come and plant THREE planters\, you’d buy THREE tickets. Couples and families may share a ticket if completing a single project!
URL:https://sargentsnursery.com/event/holiday-evergreen-planter-workshop-11-22-11am/
LOCATION:Sargent’s Nursery\, 3352 N. Service Dr.\, Red Wing\, MN\, 55066\, United States
CATEGORIES:Holiday Evergreen Planter Workshop
ATTACH;FMTTYPE=image/png:https://sargentsnursery.com/wp-content/uploads/2025/09/Holiday-Evergreen-Planter-Workshops-2026-7.png
END:VEVENT
BEGIN:VEVENT
DTSTART;TZID=America/Chicago:20251122T130000
DTEND;TZID=America/Chicago:20251122T140000
DTSTAMP:20260425T080230
CREATED:20250926T161840Z
LAST-MODIFIED:20250926T161840Z
UID:10000069-1763816400-1763820000@sargentsnursery.com
SUMMARY:Holiday Evergreen Planter Workshop
DESCRIPTION:Our Holiday Evergreen Planter workshop allows you to create a beautiful container for your home filled with fresh evergreen tree-tops\, pine boughs\, and red-twig dogwood. Satisfy your personal style with Magnolia Leaves\, colored or natural eucalyptus\, birch branches\, and other natural elements\, as well as lots of sparkly bits\, baubles\, and bows that will be available for sale as well! A 12″ container will be provided and upgrade pricing is available during class for larger containers. You may bring your own pot or insert\, but no discounts will be offered. \nMax: 12 projects/class\nPlease purchase tickets based on number of projects you intend to complete. i.e. If you and your daughter want to come and plant THREE planters\, you’d buy THREE tickets. Couples and families may share a ticket if completing a single project!
URL:https://sargentsnursery.com/event/holiday-evergreen-planter-workshop-11-22-1pm/
LOCATION:Sargent’s Nursery\, 3352 N. Service Dr.\, Red Wing\, MN\, 55066\, United States
CATEGORIES:Holiday Evergreen Planter Workshop
ATTACH;FMTTYPE=image/png:https://sargentsnursery.com/wp-content/uploads/2025/09/Holiday-Evergreen-Planter-Workshops-2026-7.png
END:VEVENT
END:VCALENDAR