BEGIN:VCALENDAR
VERSION:2.0
PRODID:-//Sargent&#039;s Nursery - ECPv6.15.20//NONSGML v1.0//EN
CALSCALE:GREGORIAN
METHOD:PUBLISH
X-ORIGINAL-URL:https://sargentsnursery.com
X-WR-CALDESC:Events for Sargent&#039;s Nursery
REFRESH-INTERVAL;VALUE=DURATION:PT1H
X-Robots-Tag:noindex
X-PUBLISHED-TTL:PT1H
BEGIN:VTIMEZONE
TZID:America/Chicago
BEGIN:DAYLIGHT
TZOFFSETFROM:-0600
TZOFFSETTO:-0500
TZNAME:CDT
DTSTART:20250309T080000
END:DAYLIGHT
BEGIN:STANDARD
TZOFFSETFROM:-0500
TZOFFSETTO:-0600
TZNAME:CST
DTSTART:20251102T070000
END:STANDARD
BEGIN:DAYLIGHT
TZOFFSETFROM:-0600
TZOFFSETTO:-0500
TZNAME:CDT
DTSTART:20260308T080000
END:DAYLIGHT
BEGIN:STANDARD
TZOFFSETFROM:-0500
TZOFFSETTO:-0600
TZNAME:CST
DTSTART:20261101T070000
END:STANDARD
BEGIN:DAYLIGHT
TZOFFSETFROM:-0600
TZOFFSETTO:-0500
TZNAME:CDT
DTSTART:20270314T080000
END:DAYLIGHT
BEGIN:STANDARD
TZOFFSETFROM:-0500
TZOFFSETTO:-0600
TZNAME:CST
DTSTART:20271107T070000
END:STANDARD
END:VTIMEZONE
BEGIN:VEVENT
DTSTART;TZID=America/Chicago:20260328T100000
DTEND;TZID=America/Chicago:20260328T110000
DTSTAMP:20260425T063150
CREATED:20260121T201656Z
LAST-MODIFIED:20260121T210942Z
UID:10000120-1774692000-1774695600@sargentsnursery.com
SUMMARY:Moss Basket Workshops
DESCRIPTION:The Red Wing Moss Basket tradition began in 1989 and has grown into an iconic symbol of our community. Now\, you’re invited to take part in that tradition. \nIn this hands-on workshop\, you’ll create your own classic Red Wing Moss Basket—designed to reflect the beauty and spirit of Red Wing and ready to shine in your own yard or garden. We’ll guide you through the process and provide everything you need\, including a carefully selected assortment of plants\, expert instruction\, and the classic basket container! \nOnce your basket is complete\, we’ll give it a strong start in our greenhouse\, caring for it until it’s ready for pickup on May 15. \nSpace is limited. Please reserve your spot with a ticket below—one ticket per basket\, please.
URL:https://sargentsnursery.com/event/moss-basket-workshops-3-28-26-10am/
LOCATION:Sargent’s Nursery\, 3352 N. Service Dr.\, Red Wing\, MN\, 55066\, United States
ATTACH;FMTTYPE=image/png:https://sargentsnursery.com/wp-content/uploads/2026/01/Moss-Basket-Workshop-2026-1-Featured-Image-Website-Moss-Basket.png
END:VEVENT
BEGIN:VEVENT
DTSTART;TZID=America/Chicago:20260328T130000
DTEND;TZID=America/Chicago:20260328T140000
DTSTAMP:20260425T063150
CREATED:20260121T203857Z
LAST-MODIFIED:20260121T205458Z
UID:10000121-1774702800-1774706400@sargentsnursery.com
SUMMARY:Moss Basket Workshops
DESCRIPTION:The Red Wing Moss Basket tradition began in 1989 and has grown into an iconic symbol of our community. Now\, you’re invited to take part in that tradition. \nIn this hands-on workshop\, you’ll create your own classic Red Wing Moss Basket—designed to reflect the beauty and spirit of Red Wing and ready to shine in your own yard or garden. We’ll guide you through the process and provide everything you need\, including a carefully selected assortment of plants\, expert instruction\, and the classic basket container! \nOnce your basket is complete\, we’ll give it a strong start in our greenhouse\, caring for it until it’s ready for pickup on May 15. \nSpace is limited. Please reserve your spot with a ticket below—one ticket per basket\, please.
URL:https://sargentsnursery.com/event/moss-basket-workshops-3-28-26-1pm/
LOCATION:Sargent’s Nursery\, 3352 N. Service Dr.\, Red Wing\, MN\, 55066\, United States
ATTACH;FMTTYPE=image/png:https://sargentsnursery.com/wp-content/uploads/2026/01/Moss-Basket-Workshop-2026-1-Featured-Image-Website-Moss-Basket.png
END:VEVENT
END:VCALENDAR