BEGIN:VCALENDAR
VERSION:2.0
PRODID:-//Sargent&#039;s Nursery - ECPv6.15.20//NONSGML v1.0//EN
CALSCALE:GREGORIAN
METHOD:PUBLISH
X-ORIGINAL-URL:https://sargentsnursery.com
X-WR-CALDESC:Events for Sargent&#039;s Nursery
REFRESH-INTERVAL;VALUE=DURATION:PT1H
X-Robots-Tag:noindex
X-PUBLISHED-TTL:PT1H
BEGIN:VTIMEZONE
TZID:America/Chicago
BEGIN:DAYLIGHT
TZOFFSETFROM:-0600
TZOFFSETTO:-0500
TZNAME:CDT
DTSTART:20250309T080000
END:DAYLIGHT
BEGIN:STANDARD
TZOFFSETFROM:-0500
TZOFFSETTO:-0600
TZNAME:CST
DTSTART:20251102T070000
END:STANDARD
BEGIN:DAYLIGHT
TZOFFSETFROM:-0600
TZOFFSETTO:-0500
TZNAME:CDT
DTSTART:20260308T080000
END:DAYLIGHT
BEGIN:STANDARD
TZOFFSETFROM:-0500
TZOFFSETTO:-0600
TZNAME:CST
DTSTART:20261101T070000
END:STANDARD
BEGIN:DAYLIGHT
TZOFFSETFROM:-0600
TZOFFSETTO:-0500
TZNAME:CDT
DTSTART:20270314T080000
END:DAYLIGHT
BEGIN:STANDARD
TZOFFSETFROM:-0500
TZOFFSETTO:-0600
TZNAME:CST
DTSTART:20271107T070000
END:STANDARD
END:VTIMEZONE
BEGIN:VEVENT
DTSTART;TZID=America/Chicago:20260111T090000
DTEND;TZID=America/Chicago:20260111T160000
DTSTAMP:20260425T081847
CREATED:20250916T162107Z
LAST-MODIFIED:20251001T125952Z
UID:10000058-1768122000-1768147200@sargentsnursery.com
SUMMARY:Quilt Show 2026
DESCRIPTION:Join Us for a Winter Escape to Paradise! \nShake off winter and step into the tropical warmth of Sargent’s greenhouse—where vibrant color and incredible quilting talent come together in a spectacular showcase! This year’s event is proudly hosted by the talented artisans of Plum Creek Quilters. \nWander through our lush\, heated greenhouse surrounded by blooming plants while you admire stunning quilted masterpieces. From intricate pieced quilts to delicate appliqué work\, plus beautiful wool and fiber art\, you’ll discover the amazing talent in our quilting community. \nBrowse quilting vendors for supplies and inspiration\, enter to win exciting door prizes\, and view class projects that showcase various techniques and styles. Looking to add to your collection? Select quilts will be available for purchase\, and don’t miss the quilter’s rummage sale for unique finds and great deals. \nIt’s the perfect antidote to winter blues—warm greenhouse air\, beautiful plants\, and the artistry of handcrafted quilts all in one magical setting. Come celebrate the craft and creativity of Plum Creek Quilters while escaping the cold in our tropical oasis!
URL:https://sargentsnursery.com/event/quilt-show-2026/2026-01-11/
LOCATION:Sargent’s Nursery\, 3352 N. Service Dr.\, Red Wing\, MN\, 55066\, United States
CATEGORIES:Quilt Show
ATTACH;FMTTYPE=image/jpeg:https://sargentsnursery.com/wp-content/uploads/2025/09/IMG_7031-scaled.jpg
END:VEVENT
BEGIN:VEVENT
DTSTART;TZID=America/Chicago:20260110T090000
DTEND;TZID=America/Chicago:20260110T160000
DTSTAMP:20260425T081847
CREATED:20250916T162107Z
LAST-MODIFIED:20251001T125952Z
UID:10000057-1768035600-1768060800@sargentsnursery.com
SUMMARY:Quilt Show 2026
DESCRIPTION:Join Us for a Winter Escape to Paradise! \nShake off winter and step into the tropical warmth of Sargent’s greenhouse—where vibrant color and incredible quilting talent come together in a spectacular showcase! This year’s event is proudly hosted by the talented artisans of Plum Creek Quilters. \nWander through our lush\, heated greenhouse surrounded by blooming plants while you admire stunning quilted masterpieces. From intricate pieced quilts to delicate appliqué work\, plus beautiful wool and fiber art\, you’ll discover the amazing talent in our quilting community. \nBrowse quilting vendors for supplies and inspiration\, enter to win exciting door prizes\, and view class projects that showcase various techniques and styles. Looking to add to your collection? Select quilts will be available for purchase\, and don’t miss the quilter’s rummage sale for unique finds and great deals. \nIt’s the perfect antidote to winter blues—warm greenhouse air\, beautiful plants\, and the artistry of handcrafted quilts all in one magical setting. Come celebrate the craft and creativity of Plum Creek Quilters while escaping the cold in our tropical oasis!
URL:https://sargentsnursery.com/event/quilt-show-2026/2026-01-10/
LOCATION:Sargent’s Nursery\, 3352 N. Service Dr.\, Red Wing\, MN\, 55066\, United States
CATEGORIES:Quilt Show
ATTACH;FMTTYPE=image/jpeg:https://sargentsnursery.com/wp-content/uploads/2025/09/IMG_7031-scaled.jpg
END:VEVENT
BEGIN:VEVENT
DTSTART;TZID=America/Chicago:20260109T090000
DTEND;TZID=America/Chicago:20260109T160000
DTSTAMP:20260425T081847
CREATED:20250916T162107Z
LAST-MODIFIED:20251001T125952Z
UID:10000056-1767949200-1767974400@sargentsnursery.com
SUMMARY:Quilt Show 2026
DESCRIPTION:Join Us for a Winter Escape to Paradise! \nShake off winter and step into the tropical warmth of Sargent’s greenhouse—where vibrant color and incredible quilting talent come together in a spectacular showcase! This year’s event is proudly hosted by the talented artisans of Plum Creek Quilters. \nWander through our lush\, heated greenhouse surrounded by blooming plants while you admire stunning quilted masterpieces. From intricate pieced quilts to delicate appliqué work\, plus beautiful wool and fiber art\, you’ll discover the amazing talent in our quilting community. \nBrowse quilting vendors for supplies and inspiration\, enter to win exciting door prizes\, and view class projects that showcase various techniques and styles. Looking to add to your collection? Select quilts will be available for purchase\, and don’t miss the quilter’s rummage sale for unique finds and great deals. \nIt’s the perfect antidote to winter blues—warm greenhouse air\, beautiful plants\, and the artistry of handcrafted quilts all in one magical setting. Come celebrate the craft and creativity of Plum Creek Quilters while escaping the cold in our tropical oasis!
URL:https://sargentsnursery.com/event/quilt-show-2026/2026-01-09/
LOCATION:Sargent’s Nursery\, 3352 N. Service Dr.\, Red Wing\, MN\, 55066\, United States
CATEGORIES:Quilt Show
ATTACH;FMTTYPE=image/jpeg:https://sargentsnursery.com/wp-content/uploads/2025/09/IMG_7031-scaled.jpg
END:VEVENT
END:VCALENDAR